BEGIN:VCALENDAR
VERSION:2.0
PRODID:-//eventon.com NONSGML v1.0//EN
CALSCALE:GREGORIAN
METHOD:PUBLISH
BEGIN:VEVENT
UID:69e4ef489d2fd
DTSTAMP:20260419T150544Z
DTSTART:20260611
DTEND:20260612
LOCATION:
SUMMARY:Monatswanderung - Sursee-Sempach Station
DESCRIPTION:Wanderleiter: Rolf Schumacher\nhttps://tvebikon.ch/events/monat
 swanderung-sursee-sempach-station/
URL:https://tvebikon.ch/events/monatswanderung-sursee-sempach-station/
END:VEVENT
END:VCALENDAR